BEGIN:VCALENDAR
VERSION:2.0
PRODID:-//ExpressionEngine Easy iCalendar plugin//NONSGML v2.0.0//EN
X-WR-TIMEZONE:America/New_York
X-WR-CALNAME:Upcoming Auctions
BEGIN:VEVENT
UID:160356
DTSTAMP:20260621T060000
DTSTART:20260621T060000
DTEND:20260625T200000
SUMMARY:Multi Parcel Estate Auction - Mount Forest
LOCATION:5665 Watson Road\, Guelph\, ON N1H 6J2\, CA
DESCRIPTION:This auction is currently being catalogued. This notice will
  be removed once all items are finalized. June Auction Full 
 posting information is coming    
URL:https://www.rapid-sell.ca/auctions/detail/bw160356
SEQUENCE:1
END:VEVENT
END:VCALENDAR