BEGIN:VCALENDAR
VERSION:2.0
PRODID:-//ExpressionEngine Easy iCalendar plugin//NONSGML v2.0.1//EN
X-WR-TIMEZONE:America/New_York
X-WR-CALNAME:Upcoming Auctions
BEGIN:VEVENT
UID:149376
DTSTAMP:20251026T060000
DTSTART:20251026T060000
DTEND:20251030T180000
SUMMARY:Wicked October Multi Consignor Auction - Guelph
LOCATION:5665 Watson Road\, Guelph\, ON N1H 6J2\, CA
DESCRIPTION:From high-powered tools to rare collectibles\, the Wicked Oct
 ober Multi Consignor Auction â€“ Guelph is bursting with one
 -of-a-kind finds you wonâ€™t see every day. Discover standou
 t items like the Blue Jays World Series 1992 T Shirt *NEW*\, 
 EMMO Mobility Scooter\, Husqvarna zero-turn mower\, snowblower
 \, Cargomate 4'x6' cargo trailer\, and a Toro Power Curve 18".
  Explore top-tier tools and workshop gear including the RIKO
 N 70-220VSR wood lathe with stand\, Milwaukee heated apparel\,
  Craftsman equipment\, and freshly milled white cedar lumber.
  LEGO fans and collectors will love the Titanic\, Millennium 
 Falcon\, and other collectible sets\, while pop culture enthus
 iasts can bid on rare Funko Pops from Marvel\, Star Wars\, Dea
 dpool\, Lord of the Rings\, and beyond. Art lovers will find t
 reasures like an original oil on board by Canadian artist Eg
 bert Oudendag\, a signed H. Morrow watercolor\, and a limited-
 edition coloured lithograph. Also\, up for grabs: a paintball
  kit\, popcorn maker\, vintage wooden sled\, crates\, and snow w
 agon\, Royal Doulton figurine\, jewellery\, gems\, watches\, a Pa
 ndora bracelet with charms\, Scottish pins with amber and ame
 thyst\, and more. Plus\, tech classics like an ADAM Colecovisi
 on computer\, early 2000s iMac\, and a Star Trek USS Enterpris
 e model. Finish strong with a Pioneer Alpine Steel Quonset (
 25'x45')\, BMW rims & wheels\, and 14 pressure-treated posts â
 €“ this auction has something for every collector\, builder\, 
 and enthusiast. Auction Closes: Thursday\, October 30th \, 202
 5\,Â at 6:00pm (soft close in effect) CLOSING EARLYÂ â€” 6 p.
 m. Pickup:Â We do not ship. Friday\, October 31st\, 2025\,Â fro
 m 11:00am to 5:00pmÂ and Saturday\, November 1st\, 2025\, from 
 8:00am to 12:00pm. 5665 Watson Road North\, Guelph\, ONÂ  N1H 
 6J2 Â 
URL:https://www.rapid-sell.ca/auctions/detail/bw149376
SEQUENCE:1
END:VEVENT
END:VCALENDAR